BEGIN:VCALENDAR
VERSION:2.0
PRODID:-//GeoComPass
CALSCALE:GREGORIAN
METHOD:PUBLISH
X-WR-CALNAME:GeoComPass
X-ORIGINAL-URL:https://geocompass.de/veranstaltungen/brasilien-oekologische-herausforderungen-der-neuen-weltmacht-des-suedens/
X-WR-CALDESC:Brasilien: Ökologische Herausforderungen der neuen Weltmacht des Südens
BEGIN:VEVENT
DTSTART:20131021T190000
DTEND:20131021T210000
SUMMARY:Brasilien: Ökologische Herausforderungen der neuen Weltmacht des Südens
DESCRIPTION:GeoComPass SPECIAL | Lebt der brasilianische Aufschwung auf Kosten der Umwelt? Hat Umweltschutz in diesem Staat mit seinen riesigen Ausmaßen überhaupt eine Chance?
LOCATION:Innstraße 31, 94032 Passau
END:VEVENT
END:VCALENDAR
