BEGIN:VCALENDAR
VERSION:2.0
PRODID:-//GeoComPass
CALSCALE:GREGORIAN
METHOD:PUBLISH
X-WR-CALNAME:GeoComPass
X-ORIGINAL-URL:https://geocompass.de/veranstaltungen/die-halser-ilzschleifen-naturraeumliche-vielfalt-entlang-des-kleinsten-passauer-flusses/
X-WR-CALDESC:Die Halser Ilzschleifen – Naturräumliche Vielfalt entlang des kleinsten Passauer Flusses
BEGIN:VEVENT
DTSTART:20150613T140000
DTEND:20150613T180000
SUMMARY:Die Halser Ilzschleifen – Naturräumliche Vielfalt entlang des kleinsten Passauer Flusses
DESCRIPTION:GeoComPass UNTERWEGS | Ein Blick auf einen besonderen Passauer Naturraum mit einer bemerkenswerten Artenvielfalt
LOCATION:Innstraße 31, 94032 Passau
END:VEVENT
END:VCALENDAR
