BEGIN:VCALENDAR
VERSION:2.0
PRODID:-//GeoComPass
CALSCALE:GREGORIAN
METHOD:PUBLISH
X-WR-CALNAME:GeoComPass
X-ORIGINAL-URL:https://geocompass.de/veranstaltungen/auf-der-suche-nach-schnee-und-neuen-straenden-tourismus-und-klimawandel/
X-WR-CALDESC:Auf der Suche nach Schnee und neuen Stränden: Tourismus und Klimawandel
BEGIN:VEVENT
DTSTART:20120423T190000
DTEND:20120423T210000
SUMMARY:Auf der Suche nach Schnee und neuen Stränden: Tourismus und Klimawandel
DESCRIPTION:GeoComPass THEMA | Kein Schnee, steigender Meeresspiegel, Klimawandel allenthalben - wie müssen sich erfolgreiche Tourismusangebote in der Zukunft positionieren? Welche Regionen profitieren, wer sind die Verlierer?
LOCATION:Innstraße 31, 94032 Passau
END:VEVENT
END:VCALENDAR
