BEGIN:VCALENDAR
VERSION:2.0
PRODID:-//GeoComPass
CALSCALE:GREGORIAN
METHOD:PUBLISH
X-WR-CALNAME:GeoComPass
X-ORIGINAL-URL:https://geocompass.de/veranstaltungen/c-a-r-m-e-n-kompetenzzentrum-fuer-nachwachsende-rohstoffe-straubing/
X-WR-CALDESC:C.A.R.M.E.N. – Kompetenzzentrum für Nachwachsende Rohstoffe Straubing
BEGIN:VEVENT
DTSTART:20151013T160000
DTEND:20151013T220000
SUMMARY:C.A.R.M.E.N. – Kompetenzzentrum für Nachwachsende Rohstoffe Straubing
DESCRIPTION:GeoComPass UNTERWEGS | Nachwachsende Rohstoffe ermöglichen unsere Zukunft. Wie können sie eingesetzt werden?
LOCATION:
END:VEVENT
END:VCALENDAR
