BEGIN:VCALENDAR
VERSION:2.0
PRODID:-//GeoComPass
CALSCALE:GREGORIAN
METHOD:PUBLISH
X-WR-CALNAME:GeoComPass
X-ORIGINAL-URL:https://geocompass.de/veranstaltungen/abenteuer-alaska/
X-WR-CALDESC:Abenteuer Alaska
BEGIN:VEVENT
DTSTART:20170316T100000
DTEND:20170316T120000
SUMMARY:Abenteuer Alaska
DESCRIPTION:GeoComPass SCHULE | "The Last Frontier" - so wird Alaska heute noch genannt, und seine Natur strahlt eine besondere Faszination aus. Ein Blick auf den größten US-amerikanischen Bundesstaaten mit herausragenden Natur- und Tierphotographien. 
LOCATION:HS 10, Innstraße  31, 94032 Passau
END:VEVENT
END:VCALENDAR
