BEGIN:VCALENDAR
VERSION:2.0
PRODID:-//GeoComPass
CALSCALE:GREGORIAN
METHOD:PUBLISH
X-WR-CALNAME:GeoComPass
X-ORIGINAL-URL:https://geocompass.de/veranstaltungen/faszination-regenwald/
X-WR-CALDESC:Faszination Regenwald
BEGIN:VEVENT
DTSTART:20170317T100000
DTEND:20170317T120000
SUMMARY:Faszination Regenwald
DESCRIPTION:GeoComPass SCHULE | Ein photographischer Hochgenuss, verbunden mit fachkundigen Erläuterungen: eine außergewöhnliche Reise mit dem Biologen Konrad Wothe in die Regenwälder der Erde.

LOCATION:HS 10, Innstraße  31, 94032 Passau
END:VEVENT
END:VCALENDAR
