BEGIN:VCALENDAR
VERSION:2.0
PRODID:-//GeoComPass
CALSCALE:GREGORIAN
METHOD:PUBLISH
X-WR-CALNAME:GeoComPass
X-ORIGINAL-URL:https://geocompass.de/veranstaltungen/rom-und-umbrien-entwicklungslinien-der-ewigen-stadt-und-ein-blick-in-ihr-umbrisches-hinterland/
X-WR-CALDESC:Rom und Umbrien &#8211; Entwicklungslinien der Ewigen Stadt und ein Blick in ihr umbrisches Hinterland
BEGIN:VEVENT
DTSTART:20170604T050000
DTEND:20170611T210000
SUMMARY:Rom und Umbrien &#8211; Entwicklungslinien der Ewigen Stadt und ein Blick in ihr umbrisches Hinterland
DESCRIPTION:GeoComPass UNTERWEGS | Lässt sich Roms Kulturgeographie "lesen"? Wie kann man sich in den buchstäblich zahllosen Schichten der Ewigen Stadt zurechtfinden? Ein Versuch, die Stadt am Tiber mit ihren Wachstumsringen bis in das Hinterland Umbrien geographisch zu deuten
LOCATION:
END:VEVENT
END:VCALENDAR
