BEGIN:VCALENDAR
VERSION:2.0
PRODID:-//GeoComPass
CALSCALE:GREGORIAN
METHOD:PUBLISH
X-WR-CALNAME:GeoComPass
X-ORIGINAL-URL:https://geocompass.de/veranstaltungen/oasen-der-ost-und-zentralsahara-naturraumausstattung-und-nutzungspotentiale/
X-WR-CALDESC:Oasen der Sahara – Naturraumausstattung und Nutzungspotentiale
BEGIN:VEVENT
DTSTART:20220516T190000
DTEND:20220516T210000
SUMMARY:Oasen der Sahara – Naturraumausstattung und Nutzungspotentiale
DESCRIPTION:GeoComPass THEMA | Es gibt kaum ein etablierteres Sinnbild für Leben in lebensfeindlichem Umfeld, für ein von Ödnis umgebenes "Paradies" als die Oase - einen besonderen Ressourcenraum inmitten der Wüste. Wie sind Oasen entstanden, und welche Zukunft steht ihnen bevor? Befunde aus der Sahara  
LOCATION:Hörsaal 9, Innstraße 31, 94032 Passau
END:VEVENT
END:VCALENDAR
