BEGIN:VCALENDAR
VERSION:2.0
PRODID:-//GeoComPass
CALSCALE:GREGORIAN
METHOD:PUBLISH
X-WR-CALNAME:GeoComPass
X-ORIGINAL-URL:https://geocompass.de/veranstaltungen/neuseeland-ist-green-and-clean-ein-mythos/
X-WR-CALDESC:Neuseeland &#8211; ist &#8216;Green and Clean&#8217; ein Mythos?
BEGIN:VEVENT
DTSTART:20221024T190000
DTEND:20221024T210000
SUMMARY:Neuseeland &#8211; ist &#8216;Green and Clean&#8217; ein Mythos?
DESCRIPTION:GeoComPass THEMA | Neuseeland - das sprichwörtliche andere Ende der Welt. Weitab von allem, auch von den großen Umweltsündern und -verschmutzern, und von Millionen Quadratkilometern Wasserfläche von der übrigen Welt getrennt. Doch wie grün und sauber ist die Doppelinsel wirklich?
LOCATION:Hörsaal 9, Innstraße 31, 94032 Passau
END:VEVENT
END:VCALENDAR
